BEGIN:VCALENDAR
VERSION:2.0
PRODID:-//Ikebanah - ECPv6.15.15//NONSGML v1.0//EN
CALSCALE:GREGORIAN
METHOD:PUBLISH
X-WR-CALNAME:Ikebanah
X-ORIGINAL-URL:https://ikebanah.es
X-WR-CALDESC:Events for Ikebanah
REFRESH-INTERVAL;VALUE=DURATION:PT1H
X-Robots-Tag:noindex
X-PUBLISHED-TTL:PT1H
BEGIN:VTIMEZONE
TZID:UTC
BEGIN:STANDARD
TZOFFSETFROM:+0000
TZOFFSETTO:+0000
TZNAME:UTC
DTSTART:20250101T000000
END:STANDARD
END:VTIMEZONE
BEGIN:VEVENT
DTSTART;VALUE=DATE:20260515
DTEND;VALUE=DATE:20260518
DTSTAMP:20260421T175450
CREATED:20260107T101302Z
LAST-MODIFIED:20260107T101302Z
UID:19069-1778803200-1779062399@ikebanah.es
SUMMARY:An-Ki | Stuttgart
DESCRIPTION:Schöne Aussicht Festival\, Stuttgart
URL:https://ikebanah.es/en/evento/an-ki-stuttgart/
CATEGORIES:An-Ki,Calendar
ATTACH;FMTTYPE=image/png:https://ikebanah.es/wp-content/uploads/2025/03/an-ki-cia-ortiga-4.png
END:VEVENT
BEGIN:VEVENT
DTSTART;VALUE=DATE:20260604
DTEND;VALUE=DATE:20260607
DTSTAMP:20260421T175450
CREATED:20260219T111433Z
LAST-MODIFIED:20260219T111433Z
UID:19574-1780531200-1780790399@ikebanah.es
SUMMARY:An-Ki | Zurich (CH)
DESCRIPTION:Blickfelder Festival\, Zurich (CH)
URL:https://ikebanah.es/en/evento/an-ki-zurich-ch/
CATEGORIES:An-Ki,Calendar
END:VEVENT
END:VCALENDAR