BEGIN:VCALENDAR
VERSION:2.0
PRODID:-//Ikebanah - ECPv6.15.15//NONSGML v1.0//EN
CALSCALE:GREGORIAN
METHOD:PUBLISH
X-ORIGINAL-URL:https://ikebanah.es
X-WR-CALDESC:Eventos para Ikebanah
REFRESH-INTERVAL;VALUE=DURATION:PT1H
X-Robots-Tag:noindex
X-PUBLISHED-TTL:PT1H
BEGIN:VTIMEZONE
TZID:UTC
BEGIN:STANDARD
TZOFFSETFROM:+0000
TZOFFSETTO:+0000
TZNAME:UTC
DTSTART:20250101T000000
END:STANDARD
END:VTIMEZONE
BEGIN:VEVENT
DTSTART;VALUE=DATE:20260320
DTEND;VALUE=DATE:20260322
DTSTAMP:20260419T122141
CREATED:20251124T093846Z
LAST-MODIFIED:20260119T120210Z
UID:18596-1773964800-1774137599@ikebanah.es
SUMMARY:Entrañas | Saint-Antonin-Noble-Val (FR)
DESCRIPTION:Saint-Antonin-Noble-Val (FR)
URL:https://ikebanah.es/es/evento/entranas-montauban-fr/
CATEGORIES:Agenda,Entrañas
ATTACH;FMTTYPE=image/png:https://ikebanah.es/wp-content/uploads/2024/11/entranas-el-patio-teatro-2.png
END:VEVENT
END:VCALENDAR