BEGIN:VCALENDAR
VERSION:2.0
PRODID:-//Ikebanah - ECPv6.15.15//NONSGML v1.0//EN
CALSCALE:GREGORIAN
METHOD:PUBLISH
X-ORIGINAL-URL:https://ikebanah.es
X-WR-CALDESC:Eventos para Ikebanah
REFRESH-INTERVAL;VALUE=DURATION:PT1H
X-Robots-Tag:noindex
X-PUBLISHED-TTL:PT1H
BEGIN:VTIMEZONE
TZID:UTC
BEGIN:STANDARD
TZOFFSETFROM:+0000
TZOFFSETTO:+0000
TZNAME:UTC
DTSTART:20250101T000000
END:STANDARD
END:VTIMEZONE
BEGIN:VEVENT
DTSTART;VALUE=DATE:20260604
DTEND;VALUE=DATE:20260605
DTSTAMP:20260421T101618
CREATED:20260420T094957Z
LAST-MODIFIED:20260420T094957Z
UID:19958-1780531200-1780617599@ikebanah.es
SUMMARY:Tana | Praga (CZ)
DESCRIPTION:Tanec Praha festival\, Ponec Dance venue
URL:https://ikebanah.es/es/evento/tana-praga-cz/
CATEGORIES:Agenda,Tana
ATTACH;FMTTYPE=image/png:https://ikebanah.es/wp-content/uploads/2025/03/tana-4.png
END:VEVENT
END:VCALENDAR