BEGIN:VCALENDAR
VERSION:2.0
PRODID:-//Ikebanah - ECPv6.15.15//NONSGML v1.0//EN
CALSCALE:GREGORIAN
METHOD:PUBLISH
X-WR-CALNAME:Ikebanah
X-ORIGINAL-URL:https://ikebanah.es
X-WR-CALDESC:Eventos para Ikebanah
REFRESH-INTERVAL;VALUE=DURATION:PT1H
X-Robots-Tag:noindex
X-PUBLISHED-TTL:PT1H
BEGIN:VTIMEZONE
TZID:UTC
BEGIN:STANDARD
TZOFFSETFROM:+0000
TZOFFSETTO:+0000
TZNAME:UTC
DTSTART:20240101T000000
END:STANDARD
END:VTIMEZONE
BEGIN:VEVENT
DTSTART;VALUE=DATE:20251230
DTEND;VALUE=DATE:20251231
DTSTAMP:20260421T211406
CREATED:20251010T104331Z
LAST-MODIFIED:20251010T104331Z
UID:18004-1767052800-1767139199@ikebanah.es
SUMMARY:Komunumo | Valladolid
DESCRIPTION:LAVA\, Valladolid
URL:https://ikebanah.es/es/evento/komunumo-valladolid/
CATEGORIES:Agenda,Komunumo
ATTACH;FMTTYPE=image/jpeg:https://ikebanah.es/wp-content/uploads/2025/08/komunumo_2-1.jpg
END:VEVENT
BEGIN:VEVENT
DTSTART;VALUE=DATE:20251227
DTEND;VALUE=DATE:20251230
DTSTAMP:20260421T211406
CREATED:20251010T101806Z
LAST-MODIFIED:20251010T101806Z
UID:17971-1766793600-1767052799@ikebanah.es
SUMMARY:Full House | Vilanova i la Geltrú
DESCRIPTION:Parc de Nadal\, Vilanova i la Geltrú
URL:https://ikebanah.es/es/evento/full-house-vilanova-i-la-geltru/
CATEGORIES:Agenda,Full house
END:VEVENT
BEGIN:VEVENT
DTSTART;VALUE=DATE:20251221
DTEND;VALUE=DATE:20251222
DTSTAMP:20260421T211406
CREATED:20251107T103814Z
LAST-MODIFIED:20251107T103814Z
UID:18153-1766275200-1766361599@ikebanah.es
SUMMARY:Tumbalafusta | Juneda
DESCRIPTION:Teatre Foment\, Juneda
URL:https://ikebanah.es/es/evento/tumbalafusta-juneda/
CATEGORIES:Agenda,Tumbalafusta
ATTACH;FMTTYPE=image/png:https://ikebanah.es/wp-content/uploads/2025/03/tumbalafusta-2.png
END:VEVENT
BEGIN:VEVENT
DTSTART;VALUE=DATE:20251221
DTEND;VALUE=DATE:20251222
DTSTAMP:20260421T211406
CREATED:20250903T082025Z
LAST-MODIFIED:20250903T082126Z
UID:17210-1766275200-1766361599@ikebanah.es
SUMMARY:Va de Bach | Coslada
DESCRIPTION:Teatro Municipal de Coslada\, Madrid
URL:https://ikebanah.es/es/evento/va-de-bach-coslada/
CATEGORIES:Agenda,Va de Bach
ATTACH;FMTTYPE=image/png:https://ikebanah.es/wp-content/uploads/2025/03/va-de-bach-2.png
END:VEVENT
BEGIN:VEVENT
DTSTART;VALUE=DATE:20251220
DTEND;VALUE=DATE:20251229
DTSTAMP:20260421T211406
CREATED:20250903T081236Z
LAST-MODIFIED:20250903T081430Z
UID:17196-1766188800-1766966399@ikebanah.es
SUMMARY:Komunumo | Madrid
DESCRIPTION:Teatro de la Abadía\, Madrid
URL:https://ikebanah.es/es/evento/komunumo-madrid/
CATEGORIES:Agenda,Komunumo
ATTACH;FMTTYPE=image/jpeg:https://ikebanah.es/wp-content/uploads/2025/08/komunumo_2.jpg
END:VEVENT
BEGIN:VEVENT
DTSTART;VALUE=DATE:20251220
DTEND;VALUE=DATE:20251221
DTSTAMP:20260421T211406
CREATED:20250903T081833Z
LAST-MODIFIED:20250903T081833Z
UID:17204-1766188800-1766275199@ikebanah.es
SUMMARY:Va de Bach | Rivas Vaciamadrid 
DESCRIPTION:Auditorio Pilar Bardem – Rivas Vaciamadrid
URL:https://ikebanah.es/es/evento/va-de-bach-rivas-vaciamadrid/
CATEGORIES:Agenda,Va de Bach
ATTACH;FMTTYPE=image/png:https://ikebanah.es/wp-content/uploads/2025/03/va-de-bach-2.png
END:VEVENT
BEGIN:VEVENT
DTSTART;VALUE=DATE:20251219
DTEND;VALUE=DATE:20251220
DTSTAMP:20260421T211406
CREATED:20250903T080230Z
LAST-MODIFIED:20250903T080230Z
UID:17183-1766102400-1766188799@ikebanah.es
SUMMARY:Feriantes | San Sebastián de los Reyes
DESCRIPTION:San Sebastián de los Reyes
URL:https://ikebanah.es/es/evento/feriantes-san-sebastian-de-los-reyes/
CATEGORIES:Agenda,Feriantes
ATTACH;FMTTYPE=image/png:https://ikebanah.es/wp-content/uploads/2025/03/feriantes-el-patio-teatro-2.png
END:VEVENT
END:VCALENDAR