BEGIN:VCALENDAR
VERSION:2.0
PRODID:-//Ikebanah - ECPv6.15.15//NONSGML v1.0//EN
CALSCALE:GREGORIAN
METHOD:PUBLISH
X-WR-CALNAME:Ikebanah
X-ORIGINAL-URL:https://ikebanah.es
X-WR-CALDESC:Évènements pour Ikebanah
REFRESH-INTERVAL;VALUE=DURATION:PT1H
X-Robots-Tag:noindex
X-PUBLISHED-TTL:PT1H
BEGIN:VTIMEZONE
TZID:UTC
BEGIN:STANDARD
TZOFFSETFROM:+0000
TZOFFSETTO:+0000
TZNAME:UTC
DTSTART:20250101T000000
END:STANDARD
END:VTIMEZONE
BEGIN:VEVENT
DTSTART;VALUE=DATE:20260417
DTEND;VALUE=DATE:20260418
DTSTAMP:20260419T140138
CREATED:20260106T110855Z
LAST-MODIFIED:20260106T110855Z
UID:19012-1776384000-1776470399@ikebanah.es
SUMMARY:A Mano | San Sebastián de los Reyes
DESCRIPTION:C. S. Pablo Iglesias\, San Sebastián de los Reyes
URL:https://ikebanah.es/fr/evento/a-mano-san-sebastian-de-los-reyes/
CATEGORIES:A mano (à la main),Programme
END:VEVENT
BEGIN:VEVENT
DTSTART;VALUE=DATE:20260210
DTEND;VALUE=DATE:20260213
DTSTAMP:20260419T140138
CREATED:20251212T084028Z
LAST-MODIFIED:20251212T084028Z
UID:18841-1770681600-1770940799@ikebanah.es
SUMMARY:A Mano | Santa Cruz de Tenerife
DESCRIPTION:CajaCanarias\, Santa Cruz de Tenerife
URL:https://ikebanah.es/fr/evento/a-mano-santa-cruz-de-tenerife/
CATEGORIES:A mano (à la main),Programme
END:VEVENT
END:VCALENDAR