BEGIN:VCALENDAR
VERSION:2.0
PRODID:-//Ikebanah - ECPv6.15.15//NONSGML v1.0//EN
CALSCALE:GREGORIAN
METHOD:PUBLISH
X-WR-CALNAME:Ikebanah
X-ORIGINAL-URL:https://ikebanah.es
X-WR-CALDESC:Évènements pour Ikebanah
REFRESH-INTERVAL;VALUE=DURATION:PT1H
X-Robots-Tag:noindex
X-PUBLISHED-TTL:PT1H
BEGIN:VTIMEZONE
TZID:UTC
BEGIN:STANDARD
TZOFFSETFROM:+0000
TZOFFSETTO:+0000
TZNAME:UTC
DTSTART:20250101T000000
END:STANDARD
END:VTIMEZONE
BEGIN:VEVENT
DTSTART;VALUE=DATE:20260604
DTEND;VALUE=DATE:20260605
DTSTAMP:20260421T180436
CREATED:20260420T095219Z
LAST-MODIFIED:20260420T095219Z
UID:19960-1780531200-1780617599@ikebanah.es
SUMMARY:Tana | Prague (CZ)
DESCRIPTION:Tanec Praha festival\, Ponec Dance venue
URL:https://ikebanah.es/fr/evento/tana-prague-cz/
CATEGORIES:Programme,Tana
END:VEVENT
BEGIN:VEVENT
DTSTART;VALUE=DATE:20260604
DTEND;VALUE=DATE:20260607
DTSTAMP:20260421T180436
CREATED:20260219T111505Z
LAST-MODIFIED:20260219T111505Z
UID:19575-1780531200-1780790399@ikebanah.es
SUMMARY:An-Ki | Zurich (CH)
DESCRIPTION:Blickfelder Festival\, Zurich (CH)
URL:https://ikebanah.es/fr/evento/an-ki-zurich-ch/
CATEGORIES:An-ki,Programme
END:VEVENT
BEGIN:VEVENT
DTSTART;VALUE=DATE:20260613
DTEND;VALUE=DATE:20260614
DTSTAMP:20260421T180436
CREATED:20260219T114625Z
LAST-MODIFIED:20260219T114625Z
UID:19587-1781308800-1781395199@ikebanah.es
SUMMARY:Vida (Vie) | Esmoriz (PT)
DESCRIPTION:Festival Tan Tan Tann\, Esmoriz (PT)
URL:https://ikebanah.es/fr/evento/vida-vie-esmoriz-pt/
CATEGORIES:Programme,Vida
END:VEVENT
BEGIN:VEVENT
DTSTART;VALUE=DATE:20260618
DTEND;VALUE=DATE:20260619
DTSTAMP:20260421T180436
CREATED:20260420T100302Z
LAST-MODIFIED:20260420T100302Z
UID:19966-1781740800-1781827199@ikebanah.es
SUMMARY:Possê | Alcorcón
DESCRIPTION:Festival Calles Vivas\, Alcorcón
URL:https://ikebanah.es/fr/evento/posse-alcorcon/
CATEGORIES:Possê,Programme
END:VEVENT
BEGIN:VEVENT
DTSTART;VALUE=DATE:20260620
DTEND;VALUE=DATE:20260621
DTSTAMP:20260421T180436
CREATED:20260420T102238Z
LAST-MODIFIED:20260420T102238Z
UID:19979-1781913600-1781999999@ikebanah.es
SUMMARY:Arbre | Alcorcón
DESCRIPTION:Festival Calles Vivas\, Alcorcón
URL:https://ikebanah.es/fr/evento/arbre-alcorcon/
CATEGORIES:Arbre,Programme
END:VEVENT
BEGIN:VEVENT
DTSTART;VALUE=DATE:20260620
DTEND;VALUE=DATE:20260622
DTSTAMP:20260421T180436
CREATED:20260420T101209Z
LAST-MODIFIED:20260420T101209Z
UID:19972-1781913600-1782086399@ikebanah.es
SUMMARY:Sfumato | Oviedo
DESCRIPTION:Festival Cafca\, Oviedo
URL:https://ikebanah.es/fr/evento/sfumato-oviedo/
CATEGORIES:Programme,Sfumato
END:VEVENT
BEGIN:VEVENT
DTSTART;VALUE=DATE:20260621
DTEND;VALUE=DATE:20260622
DTSTAMP:20260421T180436
CREATED:20260420T104215Z
LAST-MODIFIED:20260420T104215Z
UID:19985-1782000000-1782086399@ikebanah.es
SUMMARY:Kumulunimbu | Donostia
DESCRIPTION:Kutxa Fundazioa Tabakalera\, Donostia
URL:https://ikebanah.es/fr/evento/kumulunimbu-donostia/
CATEGORIES:Kumulunimbu,Programme
END:VEVENT
BEGIN:VEVENT
DTSTART;VALUE=DATE:20260621
DTEND;VALUE=DATE:20260623
DTSTAMP:20260421T180436
CREATED:20260219T120147Z
LAST-MODIFIED:20260219T120147Z
UID:19593-1782000000-1782172799@ikebanah.es
SUMMARY:Entrañas (Entrailles) | Hradec Kralové (CZ)
DESCRIPTION:Regiony Festival\, Hradec Kralové (CZ)
URL:https://ikebanah.es/fr/evento/entranas-entrailles-hradec-kralove-cz/
CATEGORIES:Entrañas (Entrailles),Programme
END:VEVENT
END:VCALENDAR