BEGIN:VCALENDAR
VERSION:2.0
PRODID:-//Ikebanah - ECPv6.15.15//NONSGML v1.0//EN
CALSCALE:GREGORIAN
METHOD:PUBLISH
X-ORIGINAL-URL:https://ikebanah.es
X-WR-CALDESC:Évènements pour Ikebanah
REFRESH-INTERVAL;VALUE=DURATION:PT1H
X-Robots-Tag:noindex
X-PUBLISHED-TTL:PT1H
BEGIN:VTIMEZONE
TZID:UTC
BEGIN:STANDARD
TZOFFSETFROM:+0000
TZOFFSETTO:+0000
TZNAME:UTC
DTSTART:20250101T000000
END:STANDARD
END:VTIMEZONE
BEGIN:VEVENT
DTSTART;VALUE=DATE:20260416
DTEND;VALUE=DATE:20260417
DTSTAMP:20260421T190958
CREATED:20260106T110352Z
LAST-MODIFIED:20260218T080800Z
UID:18999-1776297600-1776383999@ikebanah.es
SUMMARY:Viva! | Barakaldo
DESCRIPTION:Teatro Barakaldo
URL:https://ikebanah.es/fr/evento/viva-barakaldo/
CATEGORIES:Programme,Viva!
END:VEVENT
BEGIN:VEVENT
DTSTART;VALUE=DATE:20260416
DTEND;VALUE=DATE:20260417
DTSTAMP:20260421T190958
CREATED:20260106T110639Z
LAST-MODIFIED:20260106T110639Z
UID:19006-1776297600-1776383999@ikebanah.es
SUMMARY:Tout/Rien | Mostra Igualada
DESCRIPTION:Teatre de l’Aurora\, Mostra Igualada
URL:https://ikebanah.es/fr/evento/tout-rien-mostra-igualada/
END:VEVENT
BEGIN:VEVENT
DTSTART;VALUE=DATE:20260417
DTEND;VALUE=DATE:20260418
DTSTAMP:20260421T190958
CREATED:20260106T110855Z
LAST-MODIFIED:20260106T110855Z
UID:19012-1776384000-1776470399@ikebanah.es
SUMMARY:A Mano | San Sebastián de los Reyes
DESCRIPTION:C. S. Pablo Iglesias\, San Sebastián de los Reyes
URL:https://ikebanah.es/fr/evento/a-mano-san-sebastian-de-los-reyes/
CATEGORIES:A mano (à la main),Programme
END:VEVENT
BEGIN:VEVENT
DTSTART;VALUE=DATE:20260417
DTEND;VALUE=DATE:20260418
DTSTAMP:20260421T190958
CREATED:20260106T111040Z
LAST-MODIFIED:20260106T111040Z
UID:19018-1776384000-1776470399@ikebanah.es
SUMMARY:Flores | La Rinconada
DESCRIPTION:La Rinconada
URL:https://ikebanah.es/fr/evento/flores-la-rinconada/
CATEGORIES:Flores (fleurs),Programme
END:VEVENT
BEGIN:VEVENT
DTSTART;VALUE=DATE:20260417
DTEND;VALUE=DATE:20260418
DTSTAMP:20260421T190958
CREATED:20260112T080624Z
LAST-MODIFIED:20260112T080624Z
UID:19214-1776384000-1776470399@ikebanah.es
SUMMARY:Saeta | Viana
DESCRIPTION:Viana
URL:https://ikebanah.es/fr/evento/saeta-viana/
CATEGORIES:Programme,Saeta
ATTACH;FMTTYPE=image/jpeg:https://ikebanah.es/wp-content/uploads/2025/09/saeta3-1.jpg
END:VEVENT
BEGIN:VEVENT
DTSTART;VALUE=DATE:20260417
DTEND;VALUE=DATE:20260418
DTSTAMP:20260421T190958
CREATED:20260224T100903Z
LAST-MODIFIED:20260224T100903Z
UID:19605-1776384000-1776470399@ikebanah.es
SUMMARY:Semilla | Mostra Igualada
DESCRIPTION:L’Escorxador (Sala Gran)\, Mostra Igualada
URL:https://ikebanah.es/fr/evento/semilla-mostra-igualada/
CATEGORIES:Programme
END:VEVENT
BEGIN:VEVENT
DTSTART;VALUE=DATE:20260417
DTEND;VALUE=DATE:20260419
DTSTAMP:20260421T190958
CREATED:20260106T110118Z
LAST-MODIFIED:20260331T112456Z
UID:18992-1776384000-1776556799@ikebanah.es
SUMMARY:Acasa | Mostra Igualada
DESCRIPTION:Plaça del Gasògen\, Mostra Igualada
URL:https://ikebanah.es/fr/evento/acasa-mostra-igualada/
CATEGORIES:A Casa,Programme
END:VEVENT
BEGIN:VEVENT
DTSTART;VALUE=DATE:20260418
DTEND;VALUE=DATE:20260419
DTSTAMP:20260421T190958
CREATED:20260106T111232Z
LAST-MODIFIED:20260106T111232Z
UID:19024-1776470400-1776556799@ikebanah.es
SUMMARY:Saeta | Sangüesa
DESCRIPTION:Sangüesa
URL:https://ikebanah.es/fr/evento/saeta-sanguesa/
CATEGORIES:Programme,Saeta
END:VEVENT
BEGIN:VEVENT
DTSTART;VALUE=DATE:20260418
DTEND;VALUE=DATE:20260419
DTSTAMP:20260421T190958
CREATED:20260106T111412Z
LAST-MODIFIED:20260218T080844Z
UID:19030-1776470400-1776556799@ikebanah.es
SUMMARY:Viva! | Durango
DESCRIPTION:San Agustin Kultur Gunea\, Durango
URL:https://ikebanah.es/fr/evento/viva-durango/
CATEGORIES:Programme,Viva!
END:VEVENT
BEGIN:VEVENT
DTSTART;VALUE=DATE:20260418
DTEND;VALUE=DATE:20260419
DTSTAMP:20260421T190958
CREATED:20260219T100747Z
LAST-MODIFIED:20260219T100747Z
UID:19545-1776470400-1776556799@ikebanah.es
SUMMARY:La Serpillère de Mr Mutt | Santander
DESCRIPTION:Centro Botín\, Santander
URL:https://ikebanah.es/fr/evento/la-serpillere-de-mr-mutt-santander/
CATEGORIES:Programme
END:VEVENT
BEGIN:VEVENT
DTSTART;VALUE=DATE:20260419
DTEND;VALUE=DATE:20260420
DTSTAMP:20260421T190958
CREATED:20260108T104415Z
LAST-MODIFIED:20260108T104415Z
UID:19178-1776556800-1776643199@ikebanah.es
SUMMARY:Tumbalafusta | Argentona
DESCRIPTION:Teatre La Sala\, Argentona
URL:https://ikebanah.es/fr/evento/tumbalafusta-argentona/
CATEGORIES:Programme,Tumbalafusta
END:VEVENT
BEGIN:VEVENT
DTSTART;VALUE=DATE:20260424
DTEND;VALUE=DATE:20260425
DTSTAMP:20260421T190958
CREATED:20260106T111600Z
LAST-MODIFIED:20260106T111600Z
UID:19037-1776988800-1777075199@ikebanah.es
SUMMARY:Flores | Valverde del Camino
DESCRIPTION:Valverde del Camino
URL:https://ikebanah.es/fr/evento/flores-valverde-del-camino/
CATEGORIES:Flores (fleurs),Programme
END:VEVENT
BEGIN:VEVENT
DTSTART;VALUE=DATE:20260425
DTEND;VALUE=DATE:20260427
DTSTAMP:20260421T190958
CREATED:20260113T110303Z
LAST-MODIFIED:20260113T110303Z
UID:19221-1777075200-1777247999@ikebanah.es
SUMMARY:MicroShakespeare | Madrid
DESCRIPTION:Madrid
URL:https://ikebanah.es/fr/evento/microshakespeare-madrid-4/
CATEGORIES:Microshakespeare,Programme
ATTACH;FMTTYPE=image/png:https://ikebanah.es/wp-content/uploads/2025/09/microshakespeare-1.png
END:VEVENT
BEGIN:VEVENT
DTSTART;VALUE=DATE:20260426
DTEND;VALUE=DATE:20260427
DTSTAMP:20260421T190958
CREATED:20260106T111824Z
LAST-MODIFIED:20260106T111824Z
UID:19043-1777161600-1777247999@ikebanah.es
SUMMARY:Bolero | Móstoles
DESCRIPTION:Móstoles
URL:https://ikebanah.es/fr/evento/bolero-mostoles/
CATEGORIES:Bolero,Programme
END:VEVENT
BEGIN:VEVENT
DTSTART;VALUE=DATE:20260501
DTEND;VALUE=DATE:20260502
DTSTAMP:20260421T190958
CREATED:20260331T112815Z
LAST-MODIFIED:20260331T112815Z
UID:19918-1777593600-1777679999@ikebanah.es
SUMMARY:Acasa | Figueres
DESCRIPTION:Teatre El Jardí\, Figueres
URL:https://ikebanah.es/fr/evento/acasa-figueres/
CATEGORIES:A Casa,Programme
END:VEVENT
BEGIN:VEVENT
DTSTART;VALUE=DATE:20260502
DTEND;VALUE=DATE:20260504
DTSTAMP:20260421T190958
CREATED:20260331T113051Z
LAST-MODIFIED:20260331T113051Z
UID:19924-1777680000-1777852799@ikebanah.es
SUMMARY:Acasa | Fira Titelles Lleida
DESCRIPTION:Fira Titelles Lleida
URL:https://ikebanah.es/fr/evento/acasa-fira-titelles-lleida/
CATEGORIES:A Casa,Programme
END:VEVENT
BEGIN:VEVENT
DTSTART;VALUE=DATE:20260506
DTEND;VALUE=DATE:20260511
DTSTAMP:20260421T190958
CREATED:20260107T095458Z
LAST-MODIFIED:20260107T095458Z
UID:19052-1778025600-1778457599@ikebanah.es
SUMMARY:Arbre | Zamora
DESCRIPTION:Festival International de Marionnettes de Zamora
URL:https://ikebanah.es/fr/evento/arbre-zamora/
CATEGORIES:Arbre,Programme
END:VEVENT
BEGIN:VEVENT
DTSTART;VALUE=DATE:20260507
DTEND;VALUE=DATE:20260508
DTSTAMP:20260421T190958
CREATED:20260107T100150Z
LAST-MODIFIED:20260107T100150Z
UID:19058-1778112000-1778198399@ikebanah.es
SUMMARY:Va de Bach | Thuir (FR)
DESCRIPTION:Théâtre des Aspres\, Thuir (FR)
URL:https://ikebanah.es/fr/evento/va-de-bach-thuir-fr/
CATEGORIES:Programme,Va de Bach
ATTACH;FMTTYPE=image/png:https://ikebanah.es/wp-content/uploads/2025/07/va-de-bach-2.png
END:VEVENT
BEGIN:VEVENT
DTSTART;VALUE=DATE:20260508
DTEND;VALUE=DATE:20260509
DTSTAMP:20260421T190958
CREATED:20260219T101726Z
LAST-MODIFIED:20260219T101726Z
UID:19551-1778198400-1778284799@ikebanah.es
SUMMARY:Feriantes | Móstoles
DESCRIPTION:Teatro del Soto\, Móstoles
URL:https://ikebanah.es/fr/evento/feriantes-mostoles/
CATEGORIES:Feriantes,Programme
END:VEVENT
BEGIN:VEVENT
DTSTART;VALUE=DATE:20260509
DTEND;VALUE=DATE:20260510
DTSTAMP:20260421T190958
CREATED:20260219T102114Z
LAST-MODIFIED:20260219T102114Z
UID:19557-1778284800-1778371199@ikebanah.es
SUMMARY:Tana | Villena
DESCRIPTION:KAKV\, Villena
URL:https://ikebanah.es/fr/evento/tana-villena/
CATEGORIES:Programme,Tana
END:VEVENT
BEGIN:VEVENT
DTSTART;VALUE=DATE:20260509
DTEND;VALUE=DATE:20260510
DTSTAMP:20260421T190958
CREATED:20260219T102505Z
LAST-MODIFIED:20260420T093651Z
UID:19563-1778284800-1778371199@ikebanah.es
SUMMARY:Aquí (Ici) | Cartagena
DESCRIPTION:Festival Mucho Más Mayo\, Cartagena
URL:https://ikebanah.es/fr/evento/aqui-ici-cartagena/
CATEGORIES:Aquí (Ici),Programme
END:VEVENT
BEGIN:VEVENT
DTSTART;VALUE=DATE:20260510
DTEND;VALUE=DATE:20260511
DTSTAMP:20260421T190958
CREATED:20260219T102823Z
LAST-MODIFIED:20260219T102823Z
UID:19569-1778371200-1778457599@ikebanah.es
SUMMARY:Tana | Alcoi
DESCRIPTION:Alcoi
URL:https://ikebanah.es/fr/evento/tana-alcoi/
CATEGORIES:Programme,Tana
END:VEVENT
BEGIN:VEVENT
DTSTART;VALUE=DATE:20260512
DTEND;VALUE=DATE:20260515
DTSTAMP:20260421T190958
CREATED:20260107T100857Z
LAST-MODIFIED:20260107T100857Z
UID:19064-1778544000-1778803199@ikebanah.es
SUMMARY:Entrañas | El Prat de Llobregat
DESCRIPTION:Teatre l’Artesà\, el Prat de Llobregat
URL:https://ikebanah.es/fr/evento/entranas-el-prat-de-llobregat/
CATEGORIES:Entrañas (Entrailles),Programme
END:VEVENT
BEGIN:VEVENT
DTSTART;VALUE=DATE:20260514
DTEND;VALUE=DATE:20260517
DTSTAMP:20260421T190958
CREATED:20260323T073738Z
LAST-MODIFIED:20260420T094454Z
UID:19792-1778716800-1778975999@ikebanah.es
SUMMARY:Viva! | Mallorca
DESCRIPTION:Festival Teresetes\n14/05 – Teatre Principal de Palma\n16/05 – Sa Congregació\, Sa Pobla
URL:https://ikebanah.es/fr/evento/viva-palma-de-mallorca/
CATEGORIES:Programme,Viva!
END:VEVENT
BEGIN:VEVENT
DTSTART;VALUE=DATE:20260515
DTEND;VALUE=DATE:20260518
DTSTAMP:20260421T190958
CREATED:20260107T101411Z
LAST-MODIFIED:20260107T101411Z
UID:19070-1778803200-1779062399@ikebanah.es
SUMMARY:An-Ki | Stuttgart
DESCRIPTION:Festival Schöne Aussicht\, Stuttgart
URL:https://ikebanah.es/fr/evento/an-ki-stuttgart/
CATEGORIES:An-ki,Programme
ATTACH;FMTTYPE=image/png:https://ikebanah.es/wp-content/uploads/2025/07/an-ki-cia-ortiga-1.png
END:VEVENT
BEGIN:VEVENT
DTSTART;VALUE=DATE:20260516
DTEND;VALUE=DATE:20260517
DTSTAMP:20260421T190958
CREATED:20260107T102041Z
LAST-MODIFIED:20260107T102041Z
UID:19076-1778889600-1778975999@ikebanah.es
SUMMARY:Tana | Madrid
DESCRIPTION:Espacio Abierto Quinta de los Molinos\, Madrid
URL:https://ikebanah.es/fr/evento/tana-madrid/
CATEGORIES:Programme,Tana
END:VEVENT
BEGIN:VEVENT
DTSTART;VALUE=DATE:20260517
DTEND;VALUE=DATE:20260519
DTSTAMP:20260421T190958
CREATED:20260107T102506Z
LAST-MODIFIED:20260310T105728Z
UID:19082-1778976000-1779148799@ikebanah.es
SUMMARY:Flores | Charleroi (BE)
DESCRIPTION:Festival Pépites – Théâtre de la Guimbarde\, Charleroi (BE)
URL:https://ikebanah.es/fr/evento/flores-charleroi-be/
CATEGORIES:Flores (fleurs),Programme
ATTACH;FMTTYPE=image/jpeg:https://ikebanah.es/wp-content/uploads/2025/06/flores_1.jpg
END:VEVENT
BEGIN:VEVENT
DTSTART;VALUE=DATE:20260519
DTEND;VALUE=DATE:20260521
DTSTAMP:20260421T190958
CREATED:20260107T103511Z
LAST-MODIFIED:20260216T081326Z
UID:19095-1779148800-1779321599@ikebanah.es
SUMMARY:Entrañas (Entrailles) | Ljubljana (SI)
DESCRIPTION:Ljubljana Puppet Theatre (SI)
URL:https://ikebanah.es/fr/evento/entranas-entrailles-ljubljana-si/
CATEGORIES:Entrañas (Entrailles),Programme
ATTACH;FMTTYPE=image/png:https://ikebanah.es/wp-content/uploads/2025/03/entranas-el-patio-teatro-4.png
END:VEVENT
BEGIN:VEVENT
DTSTART;VALUE=DATE:20260521
DTEND;VALUE=DATE:20260524
DTSTAMP:20260421T190958
CREATED:20260212T105357Z
LAST-MODIFIED:20260212T105452Z
UID:19459-1779321600-1779580799@ikebanah.es
SUMMARY:VIVA! | Lisbonne (PT)
DESCRIPTION:FIMFA – Festival Internacional de Marionetas y Formas Animadas\nTeatro do Bairro\, Lisbonne (PT)
URL:https://ikebanah.es/fr/evento/viva-lisbonne-pt/
CATEGORIES:Programme,Viva!
ATTACH;FMTTYPE=image/png:https://ikebanah.es/wp-content/uploads/2025/08/viva-loquace-4.png
END:VEVENT
BEGIN:VEVENT
DTSTART;VALUE=DATE:20260522
DTEND;VALUE=DATE:20260524
DTSTAMP:20260421T190958
CREATED:20260107T103008Z
LAST-MODIFIED:20260107T103008Z
UID:19089-1779408000-1779580799@ikebanah.es
SUMMARY:Kumulunimbu | Lodévois et Larzac (FR)
DESCRIPTION:Saison Résurgence\, Lodévois et Larzac (FR)
URL:https://ikebanah.es/fr/evento/kumulunimbu-lodevois-et-larzac-fr/
CATEGORIES:Kumulunimbu,Programme
ATTACH;FMTTYPE=image/png:https://ikebanah.es/wp-content/uploads/2025/07/kumulunimbu-cia-ortiga-2.png
END:VEVENT
END:VCALENDAR