BEGIN:VCALENDAR
VERSION:2.0
PRODID:-//Ikebanah - ECPv6.15.15//NONSGML v1.0//EN
CALSCALE:GREGORIAN
METHOD:PUBLISH
X-ORIGINAL-URL:https://ikebanah.es
X-WR-CALDESC:Évènements pour Ikebanah
REFRESH-INTERVAL;VALUE=DURATION:PT1H
X-Robots-Tag:noindex
X-PUBLISHED-TTL:PT1H
BEGIN:VTIMEZONE
TZID:UTC
BEGIN:STANDARD
TZOFFSETFROM:+0000
TZOFFSETTO:+0000
TZNAME:UTC
DTSTART:20240101T000000
END:STANDARD
END:VTIMEZONE
BEGIN:VEVENT
DTSTART;VALUE=DATE:20251220
DTEND;VALUE=DATE:20260105
DTSTAMP:20260421T155613
CREATED:20250903T080932Z
LAST-MODIFIED:20250903T080932Z
UID:17191-1766188800-1767571199@ikebanah.es
SUMMARY:MicroShakespeare | Madrid
DESCRIPTION:Navidad de Encuentro\, Matadero Madrid
URL:https://ikebanah.es/fr/evento/microshakespeare-madrid/
CATEGORIES:Microshakespeare,Programme
ATTACH;FMTTYPE=image/png:https://ikebanah.es/wp-content/uploads/2025/09/microshakespeare-1.png
END:VEVENT
BEGIN:VEVENT
DTSTART;VALUE=DATE:20260102
DTEND;VALUE=DATE:20260105
DTSTAMP:20260421T155613
CREATED:20250903T082744Z
LAST-MODIFIED:20250903T082744Z
UID:17219-1767312000-1767571199@ikebanah.es
SUMMARY:Les Petites Choses | Madrid
DESCRIPTION:Teatro de la Abadía\, Madrid
URL:https://ikebanah.es/fr/evento/les-petites-choses-madrid/
CATEGORIES:Les petites choses,Programme
ATTACH;FMTTYPE=image/png:https://ikebanah.es/wp-content/uploads/2025/09/las-pequenas-cosas-la-mecanica-2-1.png
END:VEVENT
BEGIN:VEVENT
DTSTART;VALUE=DATE:20260103
DTEND;VALUE=DATE:20260104
DTSTAMP:20260421T155613
CREATED:20251107T104213Z
LAST-MODIFIED:20251107T104213Z
UID:18161-1767398400-1767484799@ikebanah.es
SUMMARY:Tumbalafusta | Ciutadella de Menorca
DESCRIPTION:Teatre des Born\, Ciutadella de Menorca
URL:https://ikebanah.es/fr/evento/tumbalafusta-ciutadella-de-menorca/
CATEGORIES:Programme,Tumbalafusta
ATTACH;FMTTYPE=image/png:https://ikebanah.es/wp-content/uploads/2025/09/tumbalafusta-2.png
END:VEVENT
BEGIN:VEVENT
DTSTART;VALUE=DATE:20260103
DTEND;VALUE=DATE:20260104
DTSTAMP:20260421T155613
CREATED:20251107T104426Z
LAST-MODIFIED:20251107T104426Z
UID:18167-1767398400-1767484799@ikebanah.es
SUMMARY:Tumbalafusta | Valladolid
DESCRIPTION:LAVA\, Valladolid
URL:https://ikebanah.es/fr/evento/tumbalafusta-valladolid/
CATEGORIES:Programme,Tumbalafusta
ATTACH;FMTTYPE=image/png:https://ikebanah.es/wp-content/uploads/2025/09/tumbalafusta-2.png
END:VEVENT
BEGIN:VEVENT
DTSTART;VALUE=DATE:20260104
DTEND;VALUE=DATE:20260105
DTSTAMP:20260421T155613
CREATED:20251209T114446Z
LAST-MODIFIED:20251209T114446Z
UID:18822-1767484800-1767571199@ikebanah.es
SUMMARY:Flores | Villena
DESCRIPTION:KAKV\, Villena
URL:https://ikebanah.es/fr/evento/flores-villena/
CATEGORIES:Flores (fleurs),Programme
ATTACH;FMTTYPE=image/jpeg:https://ikebanah.es/wp-content/uploads/2025/06/flores_1.jpg
END:VEVENT
BEGIN:VEVENT
DTSTART;VALUE=DATE:20260110
DTEND;VALUE=DATE:20260111
DTSTAMP:20260421T155613
CREATED:20251119T122621Z
LAST-MODIFIED:20251119T122621Z
UID:18360-1768003200-1768089599@ikebanah.es
SUMMARY:Feriantes | Boecillo
DESCRIPTION:Teatro Boecillo\, Valladolid
URL:https://ikebanah.es/fr/evento/feriantes-boecillo/
CATEGORIES:Feriantes,Programme
ATTACH;FMTTYPE=image/png:https://ikebanah.es/wp-content/uploads/2025/07/feriantes-el-patio-teatro-1.png
END:VEVENT
BEGIN:VEVENT
DTSTART;VALUE=DATE:20260110
DTEND;VALUE=DATE:20260111
DTSTAMP:20260421T155613
CREATED:20251119T122849Z
LAST-MODIFIED:20251119T122849Z
UID:18366-1768003200-1768089599@ikebanah.es
SUMMARY:Va de Bach | La Vila Joiosa
DESCRIPTION:La Vila Joiosa
URL:https://ikebanah.es/fr/evento/va-de-bach-la-vila-joiosa/
CATEGORIES:Programme,Va de Bach
END:VEVENT
BEGIN:VEVENT
DTSTART;VALUE=DATE:20260111
DTEND;VALUE=DATE:20260112
DTSTAMP:20260421T155613
CREATED:20260108T100730Z
LAST-MODIFIED:20260108T100833Z
UID:19132-1768089600-1768175999@ikebanah.es
SUMMARY:Tumbalafusta | Viladecans
DESCRIPTION:Atrium\, Viladecans
URL:https://ikebanah.es/fr/evento/tumbalafusta-viladecans/
CATEGORIES:Programme,Tumbalafusta
ATTACH;FMTTYPE=image/png:https://ikebanah.es/wp-content/uploads/2025/09/tumbalafusta-2.png
END:VEVENT
BEGIN:VEVENT
DTSTART;VALUE=DATE:20260115
DTEND;VALUE=DATE:20260118
DTSTAMP:20260421T155613
CREATED:20251119T124130Z
LAST-MODIFIED:20251119T124130Z
UID:18379-1768435200-1768694399@ikebanah.es
SUMMARY:Va de Bach | València
DESCRIPTION:Palau de les Arts\, València
URL:https://ikebanah.es/fr/evento/va-de-bach-valencia/
CATEGORIES:Programme,Va de Bach
ATTACH;FMTTYPE=image/png:https://ikebanah.es/wp-content/uploads/2025/07/va-de-bach-2.png
END:VEVENT
BEGIN:VEVENT
DTSTART;VALUE=DATE:20260115
DTEND;VALUE=DATE:20260122
DTSTAMP:20260421T155613
CREATED:20251119T123338Z
LAST-MODIFIED:20251119T123338Z
UID:18372-1768435200-1769039999@ikebanah.es
SUMMARY:An-Ki | València
DESCRIPTION:Escalante\, València
URL:https://ikebanah.es/fr/evento/an-ki-valencia/
CATEGORIES:An-ki,Programme
END:VEVENT
BEGIN:VEVENT
DTSTART;VALUE=DATE:20260116
DTEND;VALUE=DATE:20260117
DTSTAMP:20260421T155613
CREATED:20251211T123652Z
LAST-MODIFIED:20251211T123652Z
UID:18835-1768521600-1768607999@ikebanah.es
SUMMARY:Feriantes | Zarautz
DESCRIPTION:Sala Modelo\, Zarautz
URL:https://ikebanah.es/fr/evento/feriantes-zarautz/
CATEGORIES:Feriantes,Programme
ATTACH;FMTTYPE=image/png:https://ikebanah.es/wp-content/uploads/2025/07/feriantes-el-patio-teatro-1.png
END:VEVENT
BEGIN:VEVENT
DTSTART;VALUE=DATE:20260122
DTEND;VALUE=DATE:20260123
DTSTAMP:20260421T155613
CREATED:20251127T080137Z
LAST-MODIFIED:20251127T080137Z
UID:18635-1769040000-1769126399@ikebanah.es
SUMMARY:Feriantes | Zamora
DESCRIPTION:Teatro Principal de Zamora
URL:https://ikebanah.es/fr/evento/feriantes-zamora/
CATEGORIES:Feriantes,Programme
ATTACH;FMTTYPE=image/png:https://ikebanah.es/wp-content/uploads/2025/07/feriantes-el-patio-teatro-1.png
END:VEVENT
BEGIN:VEVENT
DTSTART;VALUE=DATE:20260124
DTEND;VALUE=DATE:20260125
DTSTAMP:20260421T155613
CREATED:20251119T125049Z
LAST-MODIFIED:20251119T125049Z
UID:18385-1769212800-1769299199@ikebanah.es
SUMMARY:Feriantes | Tordesillas
DESCRIPTION:Auditorio El Carmelo\, Tordesillas
URL:https://ikebanah.es/fr/evento/feriantes-tordesillas/
CATEGORIES:Feriantes,Programme
ATTACH;FMTTYPE=image/png:https://ikebanah.es/wp-content/uploads/2025/07/feriantes-el-patio-teatro-1.png
END:VEVENT
BEGIN:VEVENT
DTSTART;VALUE=DATE:20260124
DTEND;VALUE=DATE:20260125
DTSTAMP:20260421T155613
CREATED:20251119T125430Z
LAST-MODIFIED:20251119T125430Z
UID:18391-1769212800-1769299199@ikebanah.es
SUMMARY:Flores | Pamplona
DESCRIPTION:Civivox Iturrama\, Pamplona
URL:https://ikebanah.es/fr/evento/flores-pamplona/
CATEGORIES:Flores (fleurs),Programme
END:VEVENT
BEGIN:VEVENT
DTSTART;VALUE=DATE:20260124
DTEND;VALUE=DATE:20260125
DTSTAMP:20260421T155613
CREATED:20251119T125622Z
LAST-MODIFIED:20251119T125622Z
UID:18397-1769212800-1769299199@ikebanah.es
SUMMARY:Va de Bach | Hellín
DESCRIPTION:Hellín
URL:https://ikebanah.es/fr/evento/va-de-bach-hellin/
CATEGORIES:Programme,Va de Bach
END:VEVENT
BEGIN:VEVENT
DTSTART;VALUE=DATE:20260125
DTEND;VALUE=DATE:20260126
DTSTAMP:20260421T155613
CREATED:20251124T085259Z
LAST-MODIFIED:20251124T123411Z
UID:18580-1769299200-1769385599@ikebanah.es
SUMMARY:Feriantes | Medina del Campo
DESCRIPTION: Auditorio Municipal Emiliano Allende\, Medina del Campo
URL:https://ikebanah.es/fr/evento/feriantes-medina-del-campo/
CATEGORIES:Feriantes,Programme
ATTACH;FMTTYPE=image/png:https://ikebanah.es/wp-content/uploads/2025/07/feriantes-el-patio-teatro-1.png
END:VEVENT
BEGIN:VEVENT
DTSTART;VALUE=DATE:20260125
DTEND;VALUE=DATE:20260126
DTSTAMP:20260421T155613
CREATED:20251211T092300Z
LAST-MODIFIED:20251211T092336Z
UID:18828-1769299200-1769385599@ikebanah.es
SUMMARY:Tana | Alacant
DESCRIPTION:Teatre Arniches\, Alacant
URL:https://ikebanah.es/fr/evento/tana-alacant/
CATEGORIES:Programme,Tana
ATTACH;FMTTYPE=image/png:https://ikebanah.es/wp-content/uploads/2025/03/tana-4.png
END:VEVENT
BEGIN:VEVENT
DTSTART;VALUE=DATE:20260130
DTEND;VALUE=DATE:20260131
DTSTAMP:20260421T155613
CREATED:20251119T125909Z
LAST-MODIFIED:20251119T125909Z
UID:18403-1769731200-1769817599@ikebanah.es
SUMMARY:Feriantes | Málaga
DESCRIPTION:Sala Diputación\, Málaga
URL:https://ikebanah.es/fr/evento/feriantes-malaga/
CATEGORIES:Feriantes,Programme
END:VEVENT
BEGIN:VEVENT
DTSTART;VALUE=DATE:20260131
DTEND;VALUE=DATE:20260202
DTSTAMP:20260421T155613
CREATED:20251119T130241Z
LAST-MODIFIED:20251119T130241Z
UID:18409-1769817600-1769990399@ikebanah.es
SUMMARY:Univers | Sabadell
DESCRIPTION:La Sala\, Sabadell
URL:https://ikebanah.es/fr/evento/univers-sabadell/
CATEGORIES:Programme,Univers
ATTACH;FMTTYPE=image/png:https://ikebanah.es/wp-content/uploads/2025/07/univers-engruna-teatre-4.png
END:VEVENT
END:VCALENDAR