BEGIN:VCALENDAR
VERSION:2.0
PRODID:-//Ikebanah - ECPv6.15.15//NONSGML v1.0//EN
CALSCALE:GREGORIAN
METHOD:PUBLISH
X-ORIGINAL-URL:https://ikebanah.es
X-WR-CALDESC:Évènements pour Ikebanah
REFRESH-INTERVAL;VALUE=DURATION:PT1H
X-Robots-Tag:noindex
X-PUBLISHED-TTL:PT1H
BEGIN:VTIMEZONE
TZID:UTC
BEGIN:STANDARD
TZOFFSETFROM:+0000
TZOFFSETTO:+0000
TZNAME:UTC
DTSTART:20250101T000000
END:STANDARD
END:VTIMEZONE
BEGIN:VEVENT
DTSTART;VALUE=DATE:20260424
DTEND;VALUE=DATE:20260425
DTSTAMP:20260421T111848
CREATED:20260106T111600Z
LAST-MODIFIED:20260106T111600Z
UID:19037-1776988800-1777075199@ikebanah.es
SUMMARY:Flores | Valverde del Camino
DESCRIPTION:Valverde del Camino
URL:https://ikebanah.es/fr/evento/flores-valverde-del-camino/
CATEGORIES:Flores (fleurs),Programme
END:VEVENT
BEGIN:VEVENT
DTSTART;VALUE=DATE:20260425
DTEND;VALUE=DATE:20260427
DTSTAMP:20260421T111848
CREATED:20260113T110303Z
LAST-MODIFIED:20260113T110303Z
UID:19221-1777075200-1777247999@ikebanah.es
SUMMARY:MicroShakespeare | Madrid
DESCRIPTION:Madrid
URL:https://ikebanah.es/fr/evento/microshakespeare-madrid-4/
CATEGORIES:Microshakespeare,Programme
ATTACH;FMTTYPE=image/png:https://ikebanah.es/wp-content/uploads/2025/09/microshakespeare-1.png
END:VEVENT
BEGIN:VEVENT
DTSTART;VALUE=DATE:20260426
DTEND;VALUE=DATE:20260427
DTSTAMP:20260421T111848
CREATED:20260106T111824Z
LAST-MODIFIED:20260106T111824Z
UID:19043-1777161600-1777247999@ikebanah.es
SUMMARY:Bolero | Móstoles
DESCRIPTION:Móstoles
URL:https://ikebanah.es/fr/evento/bolero-mostoles/
CATEGORIES:Bolero,Programme
END:VEVENT
END:VCALENDAR